BEGIN:VCALENDAR
VERSION:2.0
PRODID:-//Cape Town Holocaust &amp; Genocide Centre - ECPv6.0.12//NONSGML v1.0//EN
CALSCALE:GREGORIAN
METHOD:PUBLISH
X-WR-CALNAME:Cape Town Holocaust &amp; Genocide Centre
X-ORIGINAL-URL:https://ctholocaust.co.za
X-WR-CALDESC:Events for Cape Town Holocaust &amp; Genocide Centre
REFRESH-INTERVAL;VALUE=DURATION:PT1H
X-Robots-Tag:noindex
X-PUBLISHED-TTL:PT1H
BEGIN:VTIMEZONE
TZID:Africa/Johannesburg
BEGIN:STANDARD
TZOFFSETFROM:+0200
TZOFFSETTO:+0200
TZNAME:SAST
DTSTART:20210101T000000
END:STANDARD
END:VTIMEZONE
BEGIN:VEVENT
DTSTART;TZID=Africa/Johannesburg:20211024T170000
DTEND;TZID=Africa/Johannesburg:20211024T183000
DTSTAMP:20260421T153936
CREATED:20210524T112606Z
LAST-MODIFIED:20210816T140148Z
UID:6466-1635094800-1635100200@ctholocaust.co.za
SUMMARY:White Rose Creative Project Awards Ceremony
DESCRIPTION:Join us for an online ceremony honouring high school learners who participated in this year’s White Rose Creative Project.
URL:https://ctholocaust.co.za/event/white-rose-creative-project-awards-ceremony/
LOCATION:Online
END:VEVENT
END:VCALENDAR