BEGIN:VCALENDAR
VERSION:2.0
PRODID:-//Cape Town Holocaust &amp; Genocide Centre - ECPv6.0.12//NONSGML v1.0//EN
CALSCALE:GREGORIAN
METHOD:PUBLISH
X-ORIGINAL-URL:https://ctholocaust.co.za
X-WR-CALDESC:Events for Cape Town Holocaust &amp; Genocide Centre
REFRESH-INTERVAL;VALUE=DURATION:PT1H
X-Robots-Tag:noindex
X-PUBLISHED-TTL:PT1H
BEGIN:VTIMEZONE
TZID:Africa/Johannesburg
BEGIN:STANDARD
TZOFFSETFROM:+0200
TZOFFSETTO:+0200
TZNAME:SAST
DTSTART:20250101T000000
END:STANDARD
END:VTIMEZONE
BEGIN:VEVENT
DTSTART;TZID=Africa/Johannesburg:20250126T180000
DTEND;TZID=Africa/Johannesburg:20250126T200000
DTSTAMP:20260423T152115
CREATED:20240828T191521Z
LAST-MODIFIED:20240828T191521Z
UID:15500-1737914400-1737921600@ctholocaust.co.za
SUMMARY:Tehorah Concert by Adrienne Haan
DESCRIPTION:Adrienne Haan is bringing her Carnegie Hall concert Tehorah to the Jewish Museum to honour the 80th anniversary of the liberation of Auschwitz and hence International Holocaust Remembrance Day\, appointed as such by the United Nations in NY in 2005. The concert takes place at the Old Shul at the Jewish Museum on Sunday\, January 26\, 6 pm. Tickets are 250 ZAR and should be purchased early as we expect to sell out soon.\nClick here for tickets.
URL:https://ctholocaust.co.za/event/tehorah-concert-by-adrienne-haan/
ATTACH;FMTTYPE=image/jpeg:https://ctholocaust.co.za/wp-content/uploads/2024/08/Tehorah-South-Africa.jpg
END:VEVENT
END:VCALENDAR