BEGIN:VCALENDAR
VERSION:2.0
PRODID:-//Cape Town Holocaust &amp; Genocide Centre - ECPv6.0.12//NONSGML v1.0//EN
CALSCALE:GREGORIAN
METHOD:PUBLISH
X-WR-CALNAME:Cape Town Holocaust &amp; Genocide Centre
X-ORIGINAL-URL:https://ctholocaust.co.za
X-WR-CALDESC:Events for Cape Town Holocaust &amp; Genocide Centre
REFRESH-INTERVAL;VALUE=DURATION:PT1H
X-Robots-Tag:noindex
X-PUBLISHED-TTL:PT1H
BEGIN:VTIMEZONE
TZID:Africa/Johannesburg
BEGIN:STANDARD
TZOFFSETFROM:+0200
TZOFFSETTO:+0200
TZNAME:SAST
DTSTART:20250101T000000
END:STANDARD
END:VTIMEZONE
BEGIN:VEVENT
DTSTART;TZID=Africa/Johannesburg:20251016T180000
DTEND;TZID=Africa/Johannesburg:20251016T193000
DTSTAMP:20260421T122252
CREATED:20250729T111003Z
LAST-MODIFIED:20251012T184450Z
UID:18754-1760637600-1760643000@ctholocaust.co.za
SUMMARY:Sweet Home Sweet exhibition opening
DESCRIPTION:It is our honour to invite you to the opening of “Sweet Home Sweet: A Story of Survival\, Memory\, and Return”\, a temporary exhibition dedicated to three generations of the Ores family and their relationship with Poland. The exhibition examines how Holocaust memory and narratives are transmitted across generations\, and how the children and grandchildren of survivors engage with contemporary Poland. \nThe opening will feature a lecture by Tomasz Strug\, Deputy Director and Chief Curator of the Galicia Jewish Museum in Kraków\, Poland. \nThis exhibit offers a naunced look at personal histories\, the weight of memories\, and the dynamics of coming back to origins. \nTo learn more about the exhibition:\nhttps://ctholocaust.co.za/sweet-home-sweet-exhibition/ \nTo attend the event at the Centre\, RSVP to admin@holocaust.org.za 
URL:https://ctholocaust.co.za/event/sweet-home-sweet-exhibition-opening/
LOCATION:Cape Town Holocaust & Genocide Centre\, 88 Hatfield Street\, Gardens\, Cape Town\, 8001
ATTACH;FMTTYPE=image/jpeg:https://ctholocaust.co.za/wp-content/uploads/2025/07/home-sweet-home-1010.jpg
END:VEVENT
END:VCALENDAR