BEGIN:VCALENDAR
VERSION:2.0
PRODID:-//Cape Town Holocaust &amp; Genocide Centre - ECPv6.0.12//NONSGML v1.0//EN
CALSCALE:GREGORIAN
METHOD:PUBLISH
X-WR-CALNAME:Cape Town Holocaust &amp; Genocide Centre
X-ORIGINAL-URL:https://ctholocaust.co.za
X-WR-CALDESC:Events for Cape Town Holocaust &amp; Genocide Centre
REFRESH-INTERVAL;VALUE=DURATION:PT1H
X-Robots-Tag:noindex
X-PUBLISHED-TTL:PT1H
BEGIN:VTIMEZONE
TZID:Africa/Johannesburg
BEGIN:STANDARD
TZOFFSETFROM:+0200
TZOFFSETTO:+0200
TZNAME:SAST
DTSTART:20200101T000000
END:STANDARD
END:VTIMEZONE
BEGIN:VEVENT
DTSTART;TZID=Africa/Johannesburg:20201112T210000
DTEND;TZID=Africa/Johannesburg:20201112T223000
DTSTAMP:20260425T195825
CREATED:20201113T044109Z
LAST-MODIFIED:20210412T043556Z
UID:4849-1605214800-1605220200@ctholocaust.co.za
SUMMARY:A Picture Book Guide to Growing Up with a Survivor and other Mermaid Tales by Mirah Langer
DESCRIPTION:Please join us on Thursday 12 November at 7:00pm (SAST) for a webinar by Mirah Langer on “A Picture Book Guide to Growing Up with a Survivor and other Mermaid Tales”
URL:https://ctholocaust.co.za/event/a-picture-book-guide-to-growing-up-with-a-survivor-and-other-mermaid-tales-by-mirah-langer/
ATTACH;FMTTYPE=image/jpeg:https://ctholocaust.co.za/wp-content/uploads/2020/11/CTHGC-A-Picture-Book-Guide-to-Growing-Up-with-a-Survivor-and-other-Mermaid-Tales-Mirah_Langer.jpg
LOCATION:https://www.youtube.com/watch?v=0VIEbIP6IBo
END:VEVENT
BEGIN:VEVENT
DTSTART;TZID=Africa/Johannesburg:20201119T210000
DTEND;TZID=Africa/Johannesburg:20201119T223000
DTSTAMP:20260425T195825
CREATED:20201112T103717Z
LAST-MODIFIED:20201112T103717Z
UID:4837-1605819600-1605825000@ctholocaust.co.za
SUMMARY:From Non-racialism to Anti-racism: Conversations in Black and White
DESCRIPTION:Please join us on Thursday 19 November at 7:00pm (SAST) for an online panel discussion on Racism and Xenophobia in South Africa. To receive the zoom webinar link via email\, please register using the following link:\nhttps://bit.ly/38v0s4q
URL:https://ctholocaust.co.za/event/from-non-racialism-to-anti-racism-conversations-in-black-and-white/
ATTACH;FMTTYPE=image/jpeg:https://ctholocaust.co.za/wp-content/uploads/2020/11/Rascism__Xenophobia_Panel_Discussion-CTHGC.jpg
ORGANIZER;CN="Cape%20Town%20Holocaust%20%26%20Genocide%20Centre":MAILTO:admin@holocaust.org.za
LOCATION:https://ctholocaust.co.za/event/from-non-racialism-to-anti-racism-conversations-in-black-and-white/
END:VEVENT
BEGIN:VEVENT
DTSTART;TZID=Africa/Johannesburg:20201125T210000
DTEND;TZID=Africa/Johannesburg:20201125T223000
DTSTAMP:20260425T195825
CREATED:20201113T042916Z
LAST-MODIFIED:20210412T044016Z
UID:4845-1606338000-1606343400@ctholocaust.co.za
SUMMARY:The Roma Genocide under Nazi Rule by Dr David Deutsch
DESCRIPTION:As part of the Nazi world view of “restructuring” Europe\, ethnic groups such as the Sinti and Roma were branded as a dangerous threat and were violently targeted. This webinar\, presented by Dr. David Deutsch\, a Yad Vashem educator\, will focus on the persecution of this group. \nRegister for the webinar using he link:\nhttps://bit.ly/3krK4nt
URL:https://ctholocaust.co.za/event/the-roma-genocide-under-nazi-rule-by-dr-david-deutsch/
ATTACH;FMTTYPE=image/jpeg:https://ctholocaust.co.za/wp-content/uploads/2020/11/David_Deutsch-The-Roma-Genocide-CTHGC.jpg
ORGANIZER;CN="Cape%20Town%20Holocaust%20%26%20Genocide%20Centre":MAILTO:admin@holocaust.org.za
LOCATION:https://www.youtube.com/watch?v=VAZnApJekOI
END:VEVENT
END:VCALENDAR